BEGIN:VCALENDAR
VERSION:2.0
PRODID:-//Lovely Yoga - ECPv6.11.2.1//NONSGML v1.0//EN
CALSCALE:GREGORIAN
METHOD:PUBLISH
X-ORIGINAL-URL:https://lovely-yoga.de
X-WR-CALDESC:Veranstaltungen für Lovely Yoga
REFRESH-INTERVAL;VALUE=DURATION:PT1H
X-Robots-Tag:noindex
X-PUBLISHED-TTL:PT1H
BEGIN:VTIMEZONE
TZID:Europe/Berlin
BEGIN:DAYLIGHT
TZOFFSETFROM:+0100
TZOFFSETTO:+0200
TZNAME:CEST
DTSTART:20260329T010000
END:DAYLIGHT
BEGIN:STANDARD
TZOFFSETFROM:+0200
TZOFFSETTO:+0100
TZNAME:CET
DTSTART:20261025T010000
END:STANDARD
END:VTIMEZONE
BEGIN:VEVENT
DTSTART;VALUE=DATE:20260803
DTEND;VALUE=DATE:20260817
DTSTAMP:20260420T003104
CREATED:20260107T133749Z
LAST-MODIFIED:20260128T230109Z
UID:9327-1785744000-1786867199@lovely-yoga.de
SUMMARY:YOGAPAUSE
DESCRIPTION:In dieser Zeit finden keine Yogastunden statt\nWenn Du möchtest\, kannst Du die Zeit prima mit meiner Mediathek überbrücken und zuhause mit meinen Aufzeichnungen vergangener Yogastunden üben. \nMediathek buchen
URL:https://lovely-yoga.de/events/yogapause-5/
ATTACH;FMTTYPE=image/jpeg:https://lovely-yoga.de/wp-content/uploads/2025/06/Yogapause.jpg
END:VEVENT
BEGIN:VEVENT
DTSTART;TZID=Europe/Berlin:20260816T093000
DTEND;TZID=Europe/Berlin:20260816T103000
DTSTAMP:20260420T003104
CREATED:20260107T125711Z
LAST-MODIFIED:20260107T133022Z
UID:9318-1786872600-1786876200@lovely-yoga.de
SUMMARY:YOGA & CAPPUCCINO
DESCRIPTION:[vc_custom_heading text=“Yoga & Cappuccino“ font_container=“tag:h2|text_align:center“ google_fonts=“font_family:Alex%20Brush%3Aregular|font_style:400%20regular%3A400%3Anormal“ css=“%7B%22default%22%3A%7B%22color%22%3A%22_header_middle_text_hover%22%2C%22font-size%22%3A%224.5rem%22%7D%7D“][vc_custom_heading text=“Lovely Yoga im Wald“ font_container=“tag:h6|text_align:left“ google_fonts=“font_family:Montserrat%3Aregular%2C700|font_style:400%20regular%3A400%3Anormal“ css=“%7B%22default%22%3A%7B%22color%22%3A%22_content_heading%22%2C%22font-weight%22%3A%22700%22%2C%22text-transform%22%3A%22uppercase%22%2C%22margin-bottom%22%3A%220px%22%2C%22padding-bottom%22%3A%220px%22%7D%7D“]Sonntag\, 16.08. | 09:30-10:30 Uhr \nStarte entspannt in den Tag mit einer sanften Yogastunde unter freiem Himmel – in der idyllischen Atmosphäre der 4RestBar in Mehlingen. Direkt im Anschluss genießt Du eine leckere Kaffeespezialität oder Alternative sowie ein Croissant und das besondere Flair dieser stilvollen Outdoor-Location. Gönn‘ Dir Deine Auszeit – für Körper\, Geist und Seele. \nOb allein\, mit Freunden oder als Geschenk für einen Lieblingsmenschen – diese besondere Yogastunde ist eine liebevolle Einladung\, Dir selbst etwas Gutes zu tun. \n\n\nWas Du mitbringen solltest:• Eine Yogamatte• Ein Kissen und eine Decke• Bequeme Kleidung\, angepasst an das Wetter \nDas 4RestBar-Team und ich freuen uns auf Dich und eine ganz besondere Zeit unter freiem Himmel! \n\n\nFür alle geeignet – Du brauchst keine Vorkenntnisse in Yoga oder Meditation.\nEinfach kommen\, genießen\, atmen & loslassen. Melde Dich über das Kontakformular an und sichere Dir Deinen Platz. Nach Deiner Anmeldung erhältst Du eine Buchungsbestätigung und Dein Platz ist garantiert\, die Zahlung der Gebühr erfolgt in bar vor Ort. \n[vc_custom_heading text=“Anmeldung“ font_container=“tag:h6|text_align:left“ google_fonts=“font_family:Montserrat%3Aregular%2C700|font_style:400%20regular%3A400%3Anormal“ css=“%7B%22default%22%3A%7B%22color%22%3A%22_content_heading%22%2C%22font-weight%22%3A%22700%22%2C%22text-transform%22%3A%22uppercase%22%2C%22margin-bottom%22%3A%220px%22%2C%22padding-bottom%22%3A%220px%22%7D%7D“]\n		\n						\n			\n		Bitte füllen Sie dieses Feld aus.\n\n\n		\n						\n			\n		Bitte gib eine gültige E-Mail-Adresse ein.\n\n\n		\n						\n			\n		Bitte füllen Sie dieses Feld aus.\n\n\n\n\n\n\n\n	\n		\n				Absenden
URL:https://lovely-yoga.de/events/yoga-cappuccino-august/
LOCATION:4Rest – Die kleine Bar im Wald\, Werner-Liebrich-Straße 2\, Mehlingen\, 67678\, Germany
CATEGORIES:Hatha Yoga,Präsenz,Sonntags,Specials
ATTACH;FMTTYPE=image/jpeg:https://lovely-yoga.de/wp-content/uploads/2025/05/LY25-Veranstaltungen-2.jpg
END:VEVENT
BEGIN:VEVENT
DTSTART;TZID=Europe/Berlin:20260817T181500
DTEND;TZID=Europe/Berlin:20260817T194500
DTSTAMP:20260420T003104
CREATED:20260331T182353Z
LAST-MODIFIED:20260331T182353Z
UID:10158-1786990500-1786995900@lovely-yoga.de
SUMMARY:LOVELY SOMMERYOGA
DESCRIPTION:Lovely SommeryogaWas Du mitbringen solltestWas Du beachten solltestLovely SommeryogaDein Lovely Yoga Sommer ☀️ \nDer Sommerkursplan für Juni\, Juli & August – flexibel\, leicht und ganz im Rhythmus des Sommers. \nWährend die krankenkassenzertifizierten Kursblöcke in eine Sommerpause gehen\, öffnen wir den Raum für einen freien\, offenen Stundenplan.Du kannst weiterhin regelmäßig Yoga praktizieren – nur entspannter\, spontaner und angepasst an die Leichtigkeit dieser Jahreszeit. \nWas Dich erwartet: \n\n🌿 Offene Yoga-Sessions im Studio im Lovely Yoga Stilruhig\, regulierend und wohltuend\n☀️ Ausgewählte Termine an festen Tagen (Mo 18 & 20 Uhr | Di 10 Uhr | Fr 18 Uhr)\n✨ Flexible Teilnahme ganz nach Deinem Rhythmus\n\nDeine Teilnahme: \n\nMit dem Lovely Pass (5 oder 10 Einheiten)\nOder als Einzelbuchung\n\nAlle Termine sind frei wählbar und im Kursplan einsehbar. \nGenieße Deinen Yoga-Sommer – leicht\, verbindend und getragen von der Ruhe und Fülle dieser besonderen Zeit. \nWas Du mitbringen solltestVorhanden\nDamit Du Dich rundum wohlfühlst\, ist mein Yogastudio mit hochwertiger Ausstattung eingerichtet: \n\nYogamatten\nYogabolster\nGurte\nBlöcke\nDecken\nAugenkissen\n\nMitzubringen\nBringe bitte ein (Yoga)Handtuch zur Nutzung der vorhanden Matten & Bolster mit. Du nutzt lieber Deine eigenen Sachen? Gerne\, bring alles mit was Du brauchst\, um Dich wohlzufühlen! \nWas Du beachten solltestPünktlichkeit\nBitte sei pünktlich! Mein Yogastudio ist 15 Minuten vor Beginn für Dich geöffnet\, sodass Du in Ruhe ankommen kannst. Wenn Du Dich verspätest\, sag‘ mir bitte rechtzeitig vorher Bescheid. Solltest Du später als 5 Minuten erscheinen und wir schon begonnen haben\, störe bitte die laufende Yogastunde nicht und schließe Dich uns leise und achtsam an. \nPersönliche Sachen\nDu kannst Deine Schuhe\, Jacke und Tasche im Vorraum meines Studios ablegen. Bitte betrete den Yogaraum nicht mit Deinen Straßenschuhen. \nKleidung\nDeine Kleidung sollte bequem sein\, damit Du gut entspannen und Dich frei bewegen kannst. Mein Studio ist stets angenehm temperiert. Falls Du öfter kalte Füße hast\, trage gerne dickere Socken. \nEssen und Trinken\nBring‘ Dir etwas zu Trinken mit und esse ca. eine Stunde vor unserer Yogastunde nichts\, zumindest nichts „Schweres“. Ich möchte Dich bitten\, im Studio und insbesondere während der Yogastunde nicht zu essen. \nRücksicht nehmen\nBitte schalte Dein Handy aus oder nehme es am Besten nicht mit ins Studio. Nutze die bewusste Auszeit! \nEinschränkungen\nSolltest Du körperliche Einschränkungen haben\, gib mir vor der Stunde eine kurze Info. Ich werde die einzelnen Übungen gerne für Dich entsprechend anpassen und Alternativen anbieten.
URL:https://lovely-yoga.de/events/lovely-sommeryoga-29/
LOCATION:LOVELY YOGA STUDIO\, Parkstraße 1\, Kaiserslautern\, 67655\, Germany
CATEGORIES:Hatha Yoga,Montags,Präsenz
ATTACH;FMTTYPE=image/jpeg:https://lovely-yoga.de/wp-content/uploads/2026/01/LY25-Veranstaltungen-66.jpg
END:VEVENT
BEGIN:VEVENT
DTSTART;TZID=Europe/Berlin:20260818T100000
DTEND;TZID=Europe/Berlin:20260818T113000
DTSTAMP:20260420T003104
CREATED:20260331T165100Z
LAST-MODIFIED:20260331T165100Z
UID:10126-1787047200-1787052600@lovely-yoga.de
SUMMARY:LOVELY SOMMERYOGA
DESCRIPTION:Lovely SommeryogaWas Du mitbringen solltestWas Du beachten solltestLovely SommeryogaDein Lovely Yoga Sommer ☀️ \nDer Sommerkursplan für Juni\, Juli & August – flexibel\, leicht und ganz im Rhythmus des Sommers. \nWährend die krankenkassenzertifizierten Kursblöcke in eine Sommerpause gehen\, öffnen wir den Raum für einen freien\, offenen Stundenplan.Du kannst weiterhin regelmäßig Yoga praktizieren – nur entspannter\, spontaner und angepasst an die Leichtigkeit dieser Jahreszeit. \nWas Dich erwartet: \n\n🌿 Offene Yoga-Sessions im Studio im Lovely Yoga Stilruhig\, regulierend und wohltuend\n☀️ Ausgewählte Termine an festen Tagen (Mo 18 & 20 Uhr | Di 10 Uhr | Fr 18 Uhr)\n✨ Flexible Teilnahme ganz nach Deinem Rhythmus\n\nDeine Teilnahme: \n\nMit dem Lovely Pass (5 oder 10 Einheiten)\nOder als Einzelbuchung\n\nAlle Termine sind frei wählbar und im Kursplan einsehbar. \nGenieße Deinen Yoga-Sommer – leicht\, verbindend und getragen von der Ruhe und Fülle dieser besonderen Zeit. \nWas Du mitbringen solltestVorhanden\nDamit Du Dich rundum wohlfühlst\, ist mein Yogastudio mit hochwertiger Ausstattung eingerichtet: \n\nYogamatten\nYogabolster\nGurte\nBlöcke\nDecken\nAugenkissen\n\nMitzubringen\nBringe bitte ein (Yoga)Handtuch zur Nutzung der vorhanden Matten & Bolster mit. Du nutzt lieber Deine eigenen Sachen? Gerne\, bring alles mit was Du brauchst\, um Dich wohlzufühlen! \nWas Du beachten solltestPünktlichkeit\nBitte sei pünktlich! Mein Yogastudio ist 15 Minuten vor Beginn für Dich geöffnet\, sodass Du in Ruhe ankommen kannst. Wenn Du Dich verspätest\, sag‘ mir bitte rechtzeitig vorher Bescheid. Solltest Du später als 5 Minuten erscheinen und wir schon begonnen haben\, störe bitte die laufende Yogastunde nicht und schließe Dich uns leise und achtsam an. \nPersönliche Sachen\nDu kannst Deine Schuhe\, Jacke und Tasche im Vorraum meines Studios ablegen. Bitte betrete den Yogaraum nicht mit Deinen Straßenschuhen. \nKleidung\nDeine Kleidung sollte bequem sein\, damit Du gut entspannen und Dich frei bewegen kannst. Mein Studio ist stets angenehm temperiert. Falls Du öfter kalte Füße hast\, trage gerne dickere Socken. \nEssen und Trinken\nBring‘ Dir etwas zu Trinken mit und esse ca. eine Stunde vor unserer Yogastunde nichts\, zumindest nichts „Schweres“. Ich möchte Dich bitten\, im Studio und insbesondere während der Yogastunde nicht zu essen. \nRücksicht nehmen\nBitte schalte Dein Handy aus oder nehme es am Besten nicht mit ins Studio. Nutze die bewusste Auszeit! \nEinschränkungen\nSolltest Du körperliche Einschränkungen haben\, gib mir vor der Stunde eine kurze Info. Ich werde die einzelnen Übungen gerne für Dich entsprechend anpassen und Alternativen anbieten.
URL:https://lovely-yoga.de/events/lovely-sommeryoga-20/
LOCATION:LOVELY YOGA STUDIO\, Parkstraße 1\, Kaiserslautern\, 67655\, Germany
CATEGORIES:Dienstags,Hatha Yoga,Präsenz
ATTACH;FMTTYPE=image/jpeg:https://lovely-yoga.de/wp-content/uploads/2026/01/LY25-Veranstaltungen-66.jpg
END:VEVENT
BEGIN:VEVENT
DTSTART;TZID=Europe/Berlin:20260820T190000
DTEND;TZID=Europe/Berlin:20260820T200000
DTSTAMP:20260420T003104
CREATED:20260107T130404Z
LAST-MODIFIED:20260107T133139Z
UID:9322-1787252400-1787256000@lovely-yoga.de
SUMMARY:YOGA & APEROL
DESCRIPTION:[vc_custom_heading text=“Dein Yogaglück im Wald“ font_container=“tag:h2|text_align:center“ google_fonts=“font_family:Alex%20Brush%3Aregular|font_style:400%20regular%3A400%3Anormal“ css=“%7B%22default%22%3A%7B%22color%22%3A%22_header_middle_text_hover%22%2C%22font-size%22%3A%224.5rem%22%7D%7D“][vc_custom_heading text=“Yoga & Aperol“ font_container=“tag:h6|text_align:left“ google_fonts=“font_family:Montserrat%3Aregular%2C700|font_style:400%20regular%3A400%3Anormal“ css=“%7B%22default%22%3A%7B%22color%22%3A%22_content_heading%22%2C%22font-weight%22%3A%22700%22%2C%22text-transform%22%3A%22uppercase%22%2C%22margin-bottom%22%3A%220px%22%2C%22padding-bottom%22%3A%220px%22%7D%7D“]Starte entspannt in den Abend mit einer sanften Yogastunde unter freiem Himmel – in der idyllischen Atmosphäre der 4RestBar in Mehlingen. Direkt im Anschluss genießen wir zusammen einen Aperol Spritz oder eine alkoholfreie Alternative und das besondere Flair dieser stilvollen Outdoor-Location. Wer möchte\, kann danach gerne noch bleiben\, um das entspannte Beisammensein zu genießen – die Bar hat weiterhin geöffnet und freut sich\, Dich mit weiteren Getränken zu bewirten. Gönn‘ Dir Deine Auszeit – für Körper\, Geist und Seele. \nOb allein\, mit Freunden oder als Geschenk für einen Lieblingsmenschen – diese besondere Yogastunde ist eine liebevolle Einladung\, Dir selbst etwas Gutes zu tun. \nWas Du mitbringen solltest:• Eine Yogamatte• Ein Kissen und eine Decke• Bequeme Kleidung\, angepasst an das Wetter \nDas 4RestBar-Team und ich freuen uns auf Dich und eine ganz besondere Zeit unter freiem Himmel! \n[vc_custom_heading text=“Anmeldung“ font_container=“tag:h6|text_align:left“ google_fonts=“font_family:Montserrat%3Aregular%2C700|font_style:400%20regular%3A400%3Anormal“ css=“%7B%22default%22%3A%7B%22color%22%3A%22_content_heading%22%2C%22font-weight%22%3A%22700%22%2C%22text-transform%22%3A%22uppercase%22%2C%22margin-bottom%22%3A%220px%22%2C%22padding-bottom%22%3A%220px%22%7D%7D“]\n		\n						\n			\n		Bitte füllen Sie dieses Feld aus.\n\n\n		\n						\n			\n		Bitte gib eine gültige E-Mail-Adresse ein.\n\n\n		\n						\n			\n		Bitte füllen Sie dieses Feld aus.\n\n\n\n\n\n\n\n	\n		\n				Absenden
URL:https://lovely-yoga.de/events/yoga-aperol-august/
LOCATION:4Rest – Die kleine Bar im Wald\, Werner-Liebrich-Straße 2\, Mehlingen\, 67678\, Germany
CATEGORIES:Donnerstags,Präsenz,Specials
ATTACH;FMTTYPE=image/jpeg:https://lovely-yoga.de/wp-content/uploads/2025/06/LY25-Veranstaltungen.jpg
END:VEVENT
BEGIN:VEVENT
DTSTART;TZID=Europe/Berlin:20260824T181500
DTEND;TZID=Europe/Berlin:20260824T194500
DTSTAMP:20260420T003104
CREATED:20260331T182635Z
LAST-MODIFIED:20260331T182635Z
UID:10162-1787595300-1787600700@lovely-yoga.de
SUMMARY:LOVELY SOMMERYOGA
DESCRIPTION:Lovely SommeryogaWas Du mitbringen solltestWas Du beachten solltestLovely SommeryogaDein Lovely Yoga Sommer ☀️ \nDer Sommerkursplan für Juni\, Juli & August – flexibel\, leicht und ganz im Rhythmus des Sommers. \nWährend die krankenkassenzertifizierten Kursblöcke in eine Sommerpause gehen\, öffnen wir den Raum für einen freien\, offenen Stundenplan.Du kannst weiterhin regelmäßig Yoga praktizieren – nur entspannter\, spontaner und angepasst an die Leichtigkeit dieser Jahreszeit. \nWas Dich erwartet: \n\n🌿 Offene Yoga-Sessions im Studio im Lovely Yoga Stilruhig\, regulierend und wohltuend\n☀️ Ausgewählte Termine an festen Tagen (Mo 18 & 20 Uhr | Di 10 Uhr | Fr 18 Uhr)\n✨ Flexible Teilnahme ganz nach Deinem Rhythmus\n\nDeine Teilnahme: \n\nMit dem Lovely Pass (5 oder 10 Einheiten)\nOder als Einzelbuchung\n\nAlle Termine sind frei wählbar und im Kursplan einsehbar. \nGenieße Deinen Yoga-Sommer – leicht\, verbindend und getragen von der Ruhe und Fülle dieser besonderen Zeit. \nWas Du mitbringen solltestVorhanden\nDamit Du Dich rundum wohlfühlst\, ist mein Yogastudio mit hochwertiger Ausstattung eingerichtet: \n\nYogamatten\nYogabolster\nGurte\nBlöcke\nDecken\nAugenkissen\n\nMitzubringen\nBringe bitte ein (Yoga)Handtuch zur Nutzung der vorhanden Matten & Bolster mit. Du nutzt lieber Deine eigenen Sachen? Gerne\, bring alles mit was Du brauchst\, um Dich wohlzufühlen! \nWas Du beachten solltestPünktlichkeit\nBitte sei pünktlich! Mein Yogastudio ist 15 Minuten vor Beginn für Dich geöffnet\, sodass Du in Ruhe ankommen kannst. Wenn Du Dich verspätest\, sag‘ mir bitte rechtzeitig vorher Bescheid. Solltest Du später als 5 Minuten erscheinen und wir schon begonnen haben\, störe bitte die laufende Yogastunde nicht und schließe Dich uns leise und achtsam an. \nPersönliche Sachen\nDu kannst Deine Schuhe\, Jacke und Tasche im Vorraum meines Studios ablegen. Bitte betrete den Yogaraum nicht mit Deinen Straßenschuhen. \nKleidung\nDeine Kleidung sollte bequem sein\, damit Du gut entspannen und Dich frei bewegen kannst. Mein Studio ist stets angenehm temperiert. Falls Du öfter kalte Füße hast\, trage gerne dickere Socken. \nEssen und Trinken\nBring‘ Dir etwas zu Trinken mit und esse ca. eine Stunde vor unserer Yogastunde nichts\, zumindest nichts „Schweres“. Ich möchte Dich bitten\, im Studio und insbesondere während der Yogastunde nicht zu essen. \nRücksicht nehmen\nBitte schalte Dein Handy aus oder nehme es am Besten nicht mit ins Studio. Nutze die bewusste Auszeit! \nEinschränkungen\nSolltest Du körperliche Einschränkungen haben\, gib mir vor der Stunde eine kurze Info. Ich werde die einzelnen Übungen gerne für Dich entsprechend anpassen und Alternativen anbieten.
URL:https://lovely-yoga.de/events/lovely-sommeryoga-30/
LOCATION:LOVELY YOGA STUDIO\, Parkstraße 1\, Kaiserslautern\, 67655\, Germany
CATEGORIES:Hatha Yoga,Montags,Präsenz
ATTACH;FMTTYPE=image/jpeg:https://lovely-yoga.de/wp-content/uploads/2026/01/LY25-Veranstaltungen-66.jpg
END:VEVENT
BEGIN:VEVENT
DTSTART;TZID=Europe/Berlin:20260825T100000
DTEND;TZID=Europe/Berlin:20260825T113000
DTSTAMP:20260420T003104
CREATED:20260331T165253Z
LAST-MODIFIED:20260331T165253Z
UID:10130-1787652000-1787657400@lovely-yoga.de
SUMMARY:LOVELY SOMMERYOGA
DESCRIPTION:Lovely SommeryogaWas Du mitbringen solltestWas Du beachten solltestLovely SommeryogaDein Lovely Yoga Sommer ☀️ \nDer Sommerkursplan für Juni\, Juli & August – flexibel\, leicht und ganz im Rhythmus des Sommers. \nWährend die krankenkassenzertifizierten Kursblöcke in eine Sommerpause gehen\, öffnen wir den Raum für einen freien\, offenen Stundenplan.Du kannst weiterhin regelmäßig Yoga praktizieren – nur entspannter\, spontaner und angepasst an die Leichtigkeit dieser Jahreszeit. \nWas Dich erwartet: \n\n🌿 Offene Yoga-Sessions im Studio im Lovely Yoga Stilruhig\, regulierend und wohltuend\n☀️ Ausgewählte Termine an festen Tagen (Mo 18 & 20 Uhr | Di 10 Uhr | Fr 18 Uhr)\n✨ Flexible Teilnahme ganz nach Deinem Rhythmus\n\nDeine Teilnahme: \n\nMit dem Lovely Pass (5 oder 10 Einheiten)\nOder als Einzelbuchung\n\nAlle Termine sind frei wählbar und im Kursplan einsehbar. \nGenieße Deinen Yoga-Sommer – leicht\, verbindend und getragen von der Ruhe und Fülle dieser besonderen Zeit. \nWas Du mitbringen solltestVorhanden\nDamit Du Dich rundum wohlfühlst\, ist mein Yogastudio mit hochwertiger Ausstattung eingerichtet: \n\nYogamatten\nYogabolster\nGurte\nBlöcke\nDecken\nAugenkissen\n\nMitzubringen\nBringe bitte ein (Yoga)Handtuch zur Nutzung der vorhanden Matten & Bolster mit. Du nutzt lieber Deine eigenen Sachen? Gerne\, bring alles mit was Du brauchst\, um Dich wohlzufühlen! \nWas Du beachten solltestPünktlichkeit\nBitte sei pünktlich! Mein Yogastudio ist 15 Minuten vor Beginn für Dich geöffnet\, sodass Du in Ruhe ankommen kannst. Wenn Du Dich verspätest\, sag‘ mir bitte rechtzeitig vorher Bescheid. Solltest Du später als 5 Minuten erscheinen und wir schon begonnen haben\, störe bitte die laufende Yogastunde nicht und schließe Dich uns leise und achtsam an. \nPersönliche Sachen\nDu kannst Deine Schuhe\, Jacke und Tasche im Vorraum meines Studios ablegen. Bitte betrete den Yogaraum nicht mit Deinen Straßenschuhen. \nKleidung\nDeine Kleidung sollte bequem sein\, damit Du gut entspannen und Dich frei bewegen kannst. Mein Studio ist stets angenehm temperiert. Falls Du öfter kalte Füße hast\, trage gerne dickere Socken. \nEssen und Trinken\nBring‘ Dir etwas zu Trinken mit und esse ca. eine Stunde vor unserer Yogastunde nichts\, zumindest nichts „Schweres“. Ich möchte Dich bitten\, im Studio und insbesondere während der Yogastunde nicht zu essen. \nRücksicht nehmen\nBitte schalte Dein Handy aus oder nehme es am Besten nicht mit ins Studio. Nutze die bewusste Auszeit! \nEinschränkungen\nSolltest Du körperliche Einschränkungen haben\, gib mir vor der Stunde eine kurze Info. Ich werde die einzelnen Übungen gerne für Dich entsprechend anpassen und Alternativen anbieten.
URL:https://lovely-yoga.de/events/lovely-sommeryoga-25/
LOCATION:LOVELY YOGA STUDIO\, Parkstraße 1\, Kaiserslautern\, 67655\, Germany
CATEGORIES:Dienstags,Hatha Yoga,Präsenz
ATTACH;FMTTYPE=image/jpeg:https://lovely-yoga.de/wp-content/uploads/2026/01/LY25-Veranstaltungen-66.jpg
END:VEVENT
END:VCALENDAR