BEGIN:VCALENDAR
VERSION:2.0
PRODID:-//Lovely Yoga - ECPv6.11.2.1//NONSGML v1.0//EN
CALSCALE:GREGORIAN
METHOD:PUBLISH
X-ORIGINAL-URL:https://lovely-yoga.de
X-WR-CALDESC:Veranstaltungen für Lovely Yoga
REFRESH-INTERVAL;VALUE=DURATION:PT1H
X-Robots-Tag:noindex
X-PUBLISHED-TTL:PT1H
BEGIN:VTIMEZONE
TZID:Europe/Berlin
BEGIN:DAYLIGHT
TZOFFSETFROM:+0100
TZOFFSETTO:+0200
TZNAME:CEST
DTSTART:20250330T010000
END:DAYLIGHT
BEGIN:STANDARD
TZOFFSETFROM:+0200
TZOFFSETTO:+0100
TZNAME:CET
DTSTART:20251026T010000
END:STANDARD
END:VTIMEZONE
BEGIN:VEVENT
DTSTART;VALUE=DATE:20250905
DTEND;VALUE=DATE:20250907
DTSTAMP:20260421T180150
CREATED:20250828T084535Z
LAST-MODIFIED:20250828T084535Z
UID:7446-1757059200-1757145599@lovely-yoga.de
SUMMARY:YOGAPAUSE
DESCRIPTION:Heute findet keine Yogastunde statt\nWenn Du möchtest\, kannst Du die Zeit prima mit meiner Mediathek überbrücken und zuhause mit meinen Aufzeichnungen vergangener Yogastunden üben. \nMediathek buchen
URL:https://lovely-yoga.de/events/yogapause-2/
ATTACH;FMTTYPE=image/jpeg:https://lovely-yoga.de/wp-content/uploads/2025/06/Yogapause.jpg
END:VEVENT
BEGIN:VEVENT
DTSTART;TZID=Europe/Berlin:20250906T110000
DTEND;TZID=Europe/Berlin:20250906T120000
DTSTAMP:20260421T180150
CREATED:20250804T150013Z
LAST-MODIFIED:20250804T150013Z
UID:7190-1757156400-1757160000@lovely-yoga.de
SUMMARY:YOGA AM SEE
DESCRIPTION:[vc_custom_heading text=“Dein Yogaglück unter freiem Himmel“ font_container=“tag:h2|text_align:center“ google_fonts=“font_family:Alex%20Brush%3Aregular|font_style:400%20regular%3A400%3Anormal“ css=“%7B%22default%22%3A%7B%22color%22%3A%22_header_middle_text_hover%22%2C%22font-size%22%3A%224.5rem%22%7D%7D“][vc_custom_heading text=“Lovely Yoga am See“ font_container=“tag:h6|text_align:left“ google_fonts=“font_family:Montserrat%3Aregular%2C700|font_style:400%20regular%3A400%3Anormal“ css=“%7B%22default%22%3A%7B%22color%22%3A%22_content_heading%22%2C%22font-weight%22%3A%22700%22%2C%22text-transform%22%3A%22uppercase%22%2C%22margin-bottom%22%3A%220px%22%2C%22padding-bottom%22%3A%220px%22%7D%7D“]Mit großer Vorfreude starten wir in die 3. Saison Yoga am See. Umgeben von Wasser\, Bäumen und Vogelgezwitscher findest Du hier einen Ort der Ruhe\, der Dich durchatmen lässt und neue Kraft schenkt. \nIn unseren sanften Hatha-Yogastunden verbinden wir Bewegung und Atem zu einer wohltuenden Praxis. Du darfst loslassen\, bei Dir ankommen und einfach Sein. Die Stunden sind für alle geeignet – ob mit oder ohne Yogaerfahrung\, als Resortgast oder Tagesbesucher. \nAlles\, was Du brauchst\, steht für Dich bereit: Yogamatten\, Bolster\, Decken\, Blöcke und Augenkissen sorgen für Geborgenheit und Komfort. Bring einfach ein Handtuch für die Matte mit – oder gerne Deine eigene Ausstattung\, wenn Du möchtest. \nNach der Stunde lädt das idyllische Waldcafé zum Verweilen ein – bei Cappuccino\, Kuchen oder einem erfrischenden Aperol Spritz. \nEine kleine Auszeit für Körper\, Geist und Seele – direkt am See. \n[vc_custom_heading text=“Anmeldung“ font_container=“tag:h6|text_align:left“ google_fonts=“font_family:Montserrat%3Aregular%2C700|font_style:400%20regular%3A400%3Anormal“ css=“%7B%22default%22%3A%7B%22color%22%3A%22_content_heading%22%2C%22font-weight%22%3A%22700%22%2C%22text-transform%22%3A%22uppercase%22%2C%22margin-bottom%22%3A%220px%22%2C%22padding-bottom%22%3A%220px%22%7D%7D“]Ich freue mich\, wenn Du an der Veranstaltung teilnehmen möchtest. Die Buchung erfolgt über das Naturresort Waldglück. Melde Dich direkt dort an. Eine Buchung über mich ist für diese Veranstaltung nicht möglich. \nJetzt anmelden
URL:https://lovely-yoga.de/events/yoga-am-see-2/
LOCATION:Naturresort Waldglück\, Pfrimmerhof 3\, Sippersfeld\, 67729\, Germany
CATEGORIES:Präsenz,Samstags,Specials
ATTACH;FMTTYPE=image/jpeg:https://lovely-yoga.de/wp-content/uploads/2025/05/9.jpg
END:VEVENT
BEGIN:VEVENT
DTSTART;TZID=Europe/Berlin:20250907T110000
DTEND;TZID=Europe/Berlin:20250907T130000
DTSTAMP:20260421T180150
CREATED:20250531T122124Z
LAST-MODIFIED:20250630T153011Z
UID:6057-1757242800-1757250000@lovely-yoga.de
SUMMARY:YOGA AUF DER ALPAKAWEIDE
DESCRIPTION:[vc_custom_heading text=“Dein Yogaglück auf der Weide“ font_container=“tag:h2|text_align:center“ google_fonts=“font_family:Alex%20Brush%3Aregular|font_style:400%20regular%3A400%3Anormal“ css=“%7B%22default%22%3A%7B%22color%22%3A%22_header_middle_text_hover%22%2C%22font-size%22%3A%224.5rem%22%7D%7D“][vc_custom_heading text=“Yoga auf der Alpakaweide“ font_container=“tag:h6|text_align:left“ google_fonts=“font_family:Montserrat%3Aregular%2C700|font_style:400%20regular%3A400%3Anormal“ css=“%7B%22default%22%3A%7B%22color%22%3A%22_content_heading%22%2C%22font-weight%22%3A%22700%22%2C%22text-transform%22%3A%22uppercase%22%2C%22margin-bottom%22%3A%220px%22%2C%22padding-bottom%22%3A%220px%22%7D%7D“]Zurück zur Natur\, zurück zu Dir – erlebe Dein Yogaglück unter freiem Himmel\, eingebettet in die sanfte Landschaft des zauberhaften Zellertals. Inmitten der beruhigenden Präsenz von Alpakas darfst Du für zwei Stunden komplett loslassen\, tief durchatmen und ganz bei Dir ankommen. \nWir üben sanftes Hatha Yoga – achtsam\, entspannt und für alle Level geeignet. Die flauschigen Alpakas begleiten uns dabei mit ihrer ruhigen Art und schenken zusätzliche Gelassenheit und Erdung. Erfahre außerdem Wissenswertes über diese besonderen Tiere und genieße im Anschluss einen kühlen Secco (auch alkoholfrei oder mit Alternativen) direkt auf der Weide bei den Flauschbuben in Bubenheim. \nOb allein\, mit Freunden oder als Geschenk für einen Lieblingsmenschen – diese besondere Yogastunde ist eine liebevolle Einladung\, Dir selbst etwas Gutes zu tun. \nWas Du mitbringen solltest:• Eine Yogamatte• Ein Kissen und eine Decke• Bequeme Kleidung\, angepasst an das Wetter• Etwas zu trinken \nUnsere Gastgeberin Silke und ich freuen uns auf Dich und eine ganz besondere Zeit unter freiem Himmel! \n[vc_custom_heading text=“Anmeldung“ font_container=“tag:h6|text_align:left“ google_fonts=“font_family:Montserrat%3Aregular%2C700|font_style:400%20regular%3A400%3Anormal“ css=“%7B%22default%22%3A%7B%22color%22%3A%22_content_heading%22%2C%22font-weight%22%3A%22700%22%2C%22text-transform%22%3A%22uppercase%22%2C%22margin-bottom%22%3A%220px%22%2C%22padding-bottom%22%3A%220px%22%7D%7D“]Für diese Veranstaltung gibt es keine Tickets. Wenn Du teilnehmen möchtest\, kannst Du Dich hier über das Kontaktformular anmelden. Bringe den Betrag in Höhe von 35 Euro bitte passend zur Veranstaltung mit. \n\n		\n						\n			\n		Bitte füllen Sie dieses Feld aus.\n\n\n		\n						\n			\n		Bitte gib eine gültige E-Mail-Adresse ein.\n\n\n		\n						\n			\n		Bitte füllen Sie dieses Feld aus.\n\n\n\n\n\n\n\n	\n		\n				Absenden
URL:https://lovely-yoga.de/events/yoga-auf-der-alpakaweide-01062025-1100/
LOCATION:Flauschbuben\, Hauptstraße 17\, Bubenheim\, 67308\, Germany
CATEGORIES:Präsenz,Sonntags,Specials
ATTACH;FMTTYPE=image/jpeg:https://lovely-yoga.de/wp-content/uploads/2025/05/LY25-Veranstaltungen-6.jpg
END:VEVENT
END:VCALENDAR