BEGIN:VCALENDAR
VERSION:2.0
PRODID:-//Lovely Yoga - ECPv6.11.2.1//NONSGML v1.0//EN
CALSCALE:GREGORIAN
METHOD:PUBLISH
X-ORIGINAL-URL:https://lovely-yoga.de
X-WR-CALDESC:Veranstaltungen für Lovely Yoga
REFRESH-INTERVAL;VALUE=DURATION:PT1H
X-Robots-Tag:noindex
X-PUBLISHED-TTL:PT1H
BEGIN:VTIMEZONE
TZID:Europe/Berlin
BEGIN:DAYLIGHT
TZOFFSETFROM:+0100
TZOFFSETTO:+0200
TZNAME:CEST
DTSTART:20260329T010000
END:DAYLIGHT
BEGIN:STANDARD
TZOFFSETFROM:+0200
TZOFFSETTO:+0100
TZNAME:CET
DTSTART:20261025T010000
END:STANDARD
END:VTIMEZONE
BEGIN:VEVENT
DTSTART;TZID=Europe/Berlin:20260622T181500
DTEND;TZID=Europe/Berlin:20260622T194500
DTSTAMP:20260420T032602
CREATED:20260128T225436Z
LAST-MODIFIED:20260331T184033Z
UID:9643-1782152100-1782157500@lovely-yoga.de
SUMMARY:LOVELY SOMMERYOGA
DESCRIPTION:Lovely SommeryogaWas Du mitbringen solltestWas Du beachten solltestLovely SommeryogaDein Lovely Yoga Sommer ☀️ \nDer Sommerkursplan für Juni\, Juli & August – flexibel\, leicht und ganz im Rhythmus des Sommers. \nWährend die krankenkassenzertifizierten Kursblöcke in eine Sommerpause gehen\, öffnen wir den Raum für einen freien\, offenen Stundenplan.Du kannst weiterhin regelmäßig Yoga praktizieren – nur entspannter\, spontaner und angepasst an die Leichtigkeit dieser Jahreszeit. \nWas Dich erwartet: \n\n🌿 Offene Yoga-Sessions im Studio im Lovely Yoga Stilruhig\, regulierend und wohltuend\n☀️ Ausgewählte Termine an festen Tagen (Mo 18 & 20 Uhr | Di 10 Uhr | Fr 18 Uhr)\n✨ Flexible Teilnahme ganz nach Deinem Rhythmus\n\nDeine Teilnahme: \n\nMit dem Lovely Pass (5 oder 10 Einheiten)\nOder als Einzelbuchung\n\nAlle Termine sind frei wählbar und im Kursplan einsehbar. \nGenieße Deinen Yoga-Sommer – leicht\, verbindend und getragen von der Ruhe und Fülle dieser besonderen Zeit. \nWas Du mitbringen solltestVorhanden\nDamit Du Dich rundum wohlfühlst\, ist mein Yogastudio mit hochwertiger Ausstattung eingerichtet: \n\nYogamatten\nYogabolster\nGurte\nBlöcke\nDecken\nAugenkissen\n\nMitzubringen\nBringe bitte ein (Yoga)Handtuch zur Nutzung der vorhanden Matten & Bolster mit. Du nutzt lieber Deine eigenen Sachen? Gerne\, bring alles mit was Du brauchst\, um Dich wohlzufühlen! \nWas Du beachten solltestPünktlichkeit\nBitte sei pünktlich! Mein Yogastudio ist 15 Minuten vor Beginn für Dich geöffnet\, sodass Du in Ruhe ankommen kannst. Wenn Du Dich verspätest\, sag‘ mir bitte rechtzeitig vorher Bescheid. Solltest Du später als 5 Minuten erscheinen und wir schon begonnen haben\, störe bitte die laufende Yogastunde nicht und schließe Dich uns leise und achtsam an. \nPersönliche Sachen\nDu kannst Deine Schuhe\, Jacke und Tasche im Vorraum meines Studios ablegen. Bitte betrete den Yogaraum nicht mit Deinen Straßenschuhen. \nKleidung\nDeine Kleidung sollte bequem sein\, damit Du gut entspannen und Dich frei bewegen kannst. Mein Studio ist stets angenehm temperiert. Falls Du öfter kalte Füße hast\, trage gerne dickere Socken. \nEssen und Trinken\nBring‘ Dir etwas zu Trinken mit und esse ca. eine Stunde vor unserer Yogastunde nichts\, zumindest nichts „Schweres“. Ich möchte Dich bitten\, im Studio und insbesondere während der Yogastunde nicht zu essen. \nRücksicht nehmen\nBitte schalte Dein Handy aus oder nehme es am Besten nicht mit ins Studio. Nutze die bewusste Auszeit! \nEinschränkungen\nSolltest Du körperliche Einschränkungen haben\, gib mir vor der Stunde eine kurze Info. Ich werde die einzelnen Übungen gerne für Dich entsprechend anpassen und Alternativen anbieten.
URL:https://lovely-yoga.de/events/lovely-sommeryoga-3/
LOCATION:LOVELY YOGA STUDIO\, Parkstraße 1\, Kaiserslautern\, 67655\, Germany
CATEGORIES:Hatha Yoga,Montags,Präsenz
ATTACH;FMTTYPE=image/jpeg:https://lovely-yoga.de/wp-content/uploads/2026/01/LY25-Veranstaltungen-66.jpg
END:VEVENT
BEGIN:VEVENT
DTSTART;TZID=Europe/Berlin:20260622T200000
DTEND;TZID=Europe/Berlin:20260622T213000
DTSTAMP:20260420T032602
CREATED:20260331T202141Z
LAST-MODIFIED:20260331T202141Z
UID:10173-1782158400-1782163800@lovely-yoga.de
SUMMARY:LOVELY SOMMERYOGA
DESCRIPTION:Lovely SommeryogaWas Du mitbringen solltestWas Du beachten solltestLovely SommeryogaDein Lovely Yoga Sommer ☀️ \nDer Sommerkursplan für Juni\, Juli & August – flexibel\, leicht und ganz im Rhythmus des Sommers. \nWährend die krankenkassenzertifizierten Kursblöcke in eine Sommerpause gehen\, öffnen wir den Raum für einen freien\, offenen Stundenplan.Du kannst weiterhin regelmäßig Yoga praktizieren – nur entspannter\, spontaner und angepasst an die Leichtigkeit dieser Jahreszeit. \nWas Dich erwartet: \n\n🌿 Offene Yoga-Sessions im Studio im Lovely Yoga Stilruhig\, regulierend und wohltuend\n☀️ Ausgewählte Termine an festen Tagen (Mo 18 & 20 Uhr | Di 10 Uhr | Fr 18 Uhr)\n✨ Flexible Teilnahme ganz nach Deinem Rhythmus\n\nDeine Teilnahme: \n\nMit dem Lovely Pass (5 oder 10 Einheiten)\nOder als Einzelbuchung\n\nAlle Termine sind frei wählbar und im Kursplan einsehbar. \nGenieße Deinen Yoga-Sommer – leicht\, verbindend und getragen von der Ruhe und Fülle dieser besonderen Zeit. \nWas Du mitbringen solltestVorhanden\nDamit Du Dich rundum wohlfühlst\, ist mein Yogastudio mit hochwertiger Ausstattung eingerichtet: \n\nYogamatten\nYogabolster\nGurte\nBlöcke\nDecken\nAugenkissen\n\nMitzubringen\nBringe bitte ein (Yoga)Handtuch zur Nutzung der vorhanden Matten & Bolster mit. Du nutzt lieber Deine eigenen Sachen? Gerne\, bring alles mit was Du brauchst\, um Dich wohlzufühlen! \nWas Du beachten solltestPünktlichkeit\nBitte sei pünktlich! Mein Yogastudio ist 15 Minuten vor Beginn für Dich geöffnet\, sodass Du in Ruhe ankommen kannst. Wenn Du Dich verspätest\, sag‘ mir bitte rechtzeitig vorher Bescheid. Solltest Du später als 5 Minuten erscheinen und wir schon begonnen haben\, störe bitte die laufende Yogastunde nicht und schließe Dich uns leise und achtsam an. \nPersönliche Sachen\nDu kannst Deine Schuhe\, Jacke und Tasche im Vorraum meines Studios ablegen. Bitte betrete den Yogaraum nicht mit Deinen Straßenschuhen. \nKleidung\nDeine Kleidung sollte bequem sein\, damit Du gut entspannen und Dich frei bewegen kannst. Mein Studio ist stets angenehm temperiert. Falls Du öfter kalte Füße hast\, trage gerne dickere Socken. \nEssen und Trinken\nBring‘ Dir etwas zu Trinken mit und esse ca. eine Stunde vor unserer Yogastunde nichts\, zumindest nichts „Schweres“. Ich möchte Dich bitten\, im Studio und insbesondere während der Yogastunde nicht zu essen. \nRücksicht nehmen\nBitte schalte Dein Handy aus oder nehme es am Besten nicht mit ins Studio. Nutze die bewusste Auszeit! \nEinschränkungen\nSolltest Du körperliche Einschränkungen haben\, gib mir vor der Stunde eine kurze Info. Ich werde die einzelnen Übungen gerne für Dich entsprechend anpassen und Alternativen anbieten.
URL:https://lovely-yoga.de/events/lovely-sommeryoga-5/
LOCATION:LOVELY YOGA STUDIO\, Parkstraße 1\, Kaiserslautern\, 67655\, Germany
CATEGORIES:Hatha Yoga,Montags,Präsenz
ATTACH;FMTTYPE=image/jpeg:https://lovely-yoga.de/wp-content/uploads/2026/01/LY25-Veranstaltungen-66.jpg
END:VEVENT
BEGIN:VEVENT
DTSTART;TZID=Europe/Berlin:20260623T100000
DTEND;TZID=Europe/Berlin:20260623T113000
DTSTAMP:20260420T032602
CREATED:20260331T163716Z
LAST-MODIFIED:20260331T163716Z
UID:10107-1782208800-1782214200@lovely-yoga.de
SUMMARY:LOVELY SOMMERYOGA
DESCRIPTION:Lovely SommeryogaWas Du mitbringen solltestWas Du beachten solltestLovely SommeryogaDein Lovely Yoga Sommer ☀️ \nDer Sommerkursplan für Juni\, Juli & August – flexibel\, leicht und ganz im Rhythmus des Sommers. \nWährend die krankenkassenzertifizierten Kursblöcke in eine Sommerpause gehen\, öffnen wir den Raum für einen freien\, offenen Stundenplan.Du kannst weiterhin regelmäßig Yoga praktizieren – nur entspannter\, spontaner und angepasst an die Leichtigkeit dieser Jahreszeit. \nWas Dich erwartet: \n\n🌿 Offene Yoga-Sessions im Studio im Lovely Yoga Stilruhig\, regulierend und wohltuend\n☀️ Ausgewählte Termine an festen Tagen (Mo 18 & 20 Uhr | Di 10 Uhr | Fr 18 Uhr)\n✨ Flexible Teilnahme ganz nach Deinem Rhythmus\n\nDeine Teilnahme: \n\nMit dem Lovely Pass (5 oder 10 Einheiten)\nOder als Einzelbuchung\n\nAlle Termine sind frei wählbar und im Kursplan einsehbar. \nGenieße Deinen Yoga-Sommer – leicht\, verbindend und getragen von der Ruhe und Fülle dieser besonderen Zeit. \nWas Du mitbringen solltestVorhanden\nDamit Du Dich rundum wohlfühlst\, ist mein Yogastudio mit hochwertiger Ausstattung eingerichtet: \n\nYogamatten\nYogabolster\nGurte\nBlöcke\nDecken\nAugenkissen\n\nMitzubringen\nBringe bitte ein (Yoga)Handtuch zur Nutzung der vorhanden Matten & Bolster mit. Du nutzt lieber Deine eigenen Sachen? Gerne\, bring alles mit was Du brauchst\, um Dich wohlzufühlen! \nWas Du beachten solltestPünktlichkeit\nBitte sei pünktlich! Mein Yogastudio ist 15 Minuten vor Beginn für Dich geöffnet\, sodass Du in Ruhe ankommen kannst. Wenn Du Dich verspätest\, sag‘ mir bitte rechtzeitig vorher Bescheid. Solltest Du später als 5 Minuten erscheinen und wir schon begonnen haben\, störe bitte die laufende Yogastunde nicht und schließe Dich uns leise und achtsam an. \nPersönliche Sachen\nDu kannst Deine Schuhe\, Jacke und Tasche im Vorraum meines Studios ablegen. Bitte betrete den Yogaraum nicht mit Deinen Straßenschuhen. \nKleidung\nDeine Kleidung sollte bequem sein\, damit Du gut entspannen und Dich frei bewegen kannst. Mein Studio ist stets angenehm temperiert. Falls Du öfter kalte Füße hast\, trage gerne dickere Socken. \nEssen und Trinken\nBring‘ Dir etwas zu Trinken mit und esse ca. eine Stunde vor unserer Yogastunde nichts\, zumindest nichts „Schweres“. Ich möchte Dich bitten\, im Studio und insbesondere während der Yogastunde nicht zu essen. \nRücksicht nehmen\nBitte schalte Dein Handy aus oder nehme es am Besten nicht mit ins Studio. Nutze die bewusste Auszeit! \nEinschränkungen\nSolltest Du körperliche Einschränkungen haben\, gib mir vor der Stunde eine kurze Info. Ich werde die einzelnen Übungen gerne für Dich entsprechend anpassen und Alternativen anbieten.
URL:https://lovely-yoga.de/events/lovely-sommeryoga-6/
LOCATION:LOVELY YOGA STUDIO\, Parkstraße 1\, Kaiserslautern\, 67655\, Germany
CATEGORIES:Dienstags,Hatha Yoga,Präsenz
ATTACH;FMTTYPE=image/jpeg:https://lovely-yoga.de/wp-content/uploads/2026/01/LY25-Veranstaltungen-66.jpg
END:VEVENT
BEGIN:VEVENT
DTSTART;TZID=Europe/Berlin:20260625T190000
DTEND;TZID=Europe/Berlin:20260625T203000
DTSTAMP:20260420T032602
CREATED:20260219T203223Z
LAST-MODIFIED:20260219T203223Z
UID:9798-1782414000-1782419400@lovely-yoga.de
SUMMARY:LOVELY YOGA STUDIO
DESCRIPTION:Lovely Hatha YogaPräventionskurs buchen10er-Karte kaufenSchnupperstundeKrankenkassenzuschussWas Du mitbringen solltestWas Du beachten solltestLovely Hatha YogaIn meinen Yogastunden erwartet Dich eine wohltuende Mischung aus  Hatha & Yin Yogaübungen. Achtsame Bewegungen\, bewusster Atem und sanfte Übergänge führen Dich ins Spüren – mal aktiv und kräftigend\, mal ruhig und loslassend. Du stärkst Deinen Rücken\, findest innere Ruhe und bringst Körper & Geist wieder in Balance. Ein Raum\, um anzukommen\, loszulassen und neue Energie zu tanken. \nGenieße zum Abschluss Deiner Lovely Hatha Yoga Stunde eine Tiefenentspannung („Bodyscan“). Hier darfst Du es Dir ganz gemütlich machen\, Dich einkuscheln und mit Lavendel oder Minze gefüllten Augenkissen entspannen. Meist verbunden mit dem Klang von Klangschalen oder einer Fantasie/Traumreise. Während der Entspannung werden Stresshormone abgebaut\, das Immunsystem gestärkt\, Heilprozesse gefördert sowie mentale Stärke und Ruhe wiederhergestellt. \nYoga entspannt\, reduziert Stress und schenkt uns Möglichkeiten langfristig und ganzheitlich\, gelassener\, gesünder\, ausgeglichener und zufriedener zu sein. Und noch viel mehr! Für Deine mentale & körperliche Gesundheit. Sei dabei und genieße Deine wertvolle Auszeit! \nPräventionskurs buchenBuche Deinen Yoga Präventionskurs. \nUnd so funktioniert’s:\nMeine Yogakurse laufen fortlaufend im 8 oder 10-Wochen Kursblock. Wann die Kursblöcke starten siehst Du auf meiner Startseite. Suche Dir Deinen Kurstag aus und Dein Platz ist garantiert. Du kannst Dich voll auf Deine Yogapraxis freuen. \nEin Krankenkassenzuschuss ist bei 80 % Teilnahme möglich. Gilt auch für Onlineyoga! \nVersäumte Yogastunden können innerhalb eines Kursblocks nachgeholt werden. \n10er-Karte kaufenFlexibilität mit der 10er Karte\nUnd so funktioniert’s:\nEinfach ► LOVELY YOGA 10er-Karte kaufen und Du erhältst Deine persönliche 10er-Karte per Mail. Wähle flexibel Deine Yogastunde(n) im Kursplan aus und trage beim Bestellvorgang die Geschenkkartennummer der 10er-Karte ein – schon bist Du dabei. Eine kostenfreie Stornierung ist bis 24 Stunden vor Beginn möglich – bitte kontaktiere mich dazu direkt. Bei Nichterscheinen verfällt die Stunde ersatzlos. \nGut zu wissen\nDu kannst ganz flexibel eine einzelne Stunde pro Bestellung buchen\, gleich mehrere Stunden oder sogar alle 10 Stunden in einem Bestellvorgang für Dich reservieren. Dein Guthaben reduziert sich bei Deiner Buchung/Bestellung solange bis es aufgebraucht ist oder 6 Monate ab Kaufdatum verstrichen sind.  \nDein Restguthaben Deiner 10er-Karte kannst Du jederzeit ganz bequem unter ► Mein Konto einsehen. Gib hierfür einfach die 10er-Karten Nummer\, die Du überprüfen möchtest. \nSchnupperstundeMit der Einzelbuchung sicherst Du Dir flexibel Deinen Platz. \nUnd so funktioniert’s\nSuche Dir Deine Yogastunde im Kursplan aus und schon bist Du dabei. Ideal zum „schnuppern“ und kennenlernen meiner Yogastunden und meines Lovely Yogastudios. \nEine kostenfreie Stornierung ist bis 24 Stunden vor Beginn möglich – bitte kontaktiere mich dazu direkt. Bei Nichterscheinen verfällt die Stunde ersatzlos. \nKrankenkassenzuschussMeine Yogakurse sind von der Kooperationsgemeinschaft gesetzlicher Krankenkassen „Zentrale Prüfstelle Prävention“ als Präventionskurse – § 20 SGB V geprüft und zertifiziert. Das bedeutet für Dich\, dass eine Bezuschussung durch Deine Krankenkasse möglich ist. Die Höhe des Zuschusses variiert je nach Krankenkasse\, liegt aber meist bei 80 % für max. zwei Yogakurse im Jahr. \n\n\nUnd so funktioniert’s:\nSichere Dir Deinen ► LOVELY YOGA KURSBLOCK und erhalte nach der Teilnahme an aufeinanderfolgenden Yogaeinheiten Deine Lovely Yoga Teilnahmebestätigung zur Vorlage bei Deiner Krankenkasse. Voraussetzung zur Übernahme der Kosten durch Deine Krankenkasse ist Deine aktive Teilnahme an mindestens 7 der 8 oder 8 der 10 gebuchten Yogaeinheiten. Am Ende Deines Kursblocks erhältst Du von mir eine Teilnahmebescheinigung\, die Du bei Deiner Krankenkasse einreichen kannst. \n\n\nAnders als bei den gesetzlichen Krankenkassen\, werden Präventionskurse bei privaten Krankenversicherungen nicht immer bezuschusst. Dies hängt von der jeweiligen KK und dem gewählten Tarif ab. Informiere Dich einfach bei Deiner Krankenversicherung. Natürlich kannst Du an meinen Kursen auch teilnehmen\, wenn Deine zwei bezuschussten Yogakurse beendet sind\, Du Mitglied einer privaten Krankenkasse bist oder eine Bezuschussung von Dir nicht gewünscht ist. \nWas Du mitbringen solltestVorhanden\nDamit Du Dich rundum wohlfühlst\, ist mein Yogastudio mit hochwertiger Ausstattung eingerichtet: \n\nYogamatten\nYogabolster\nGurte\nBlöcke\nDecken\nAugenkissen\n\nMitzubringen\nBringe bitte ein (Yoga)Handtuch zur Nutzung der vorhanden Matten & Bolster mit. Du nutzt lieber Deine eigenen Sachen? Gerne\, bring alles mit was Du brauchst\, um Dich wohlzufühlen! \nWas Du beachten solltestPünktlichkeit\nBitte sei pünktlich! Mein Yogastudio ist 15 Minuten vor Beginn für Dich geöffnet\, sodass Du in Ruhe ankommen kannst. Wenn Du Dich verspätest\, sag‘ mir bitte rechtzeitig vorher Bescheid. Solltest Du später als 5 Minuten erscheinen und wir schon begonnen haben\, störe bitte die laufende Yogastunde nicht und schließe Dich uns leise und achtsam an. \nPersönliche Sachen\nDu kannst Deine Schuhe\, Jacke und Tasche im Vorraum meines Studios ablegen. Bitte betrete den Yogaraum nicht mit Deinen Straßenschuhen. \nKleidung\nDeine Kleidung sollte bequem sein\, damit Du gut entspannen und Dich frei bewegen kannst. Mein Studio ist stets angenehm temperiert. Falls Du öfter kalte Füße hast\, trage gerne dickere Socken. \nEssen und Trinken\nBring‘ Dir etwas zu Trinken mit und esse ca. eine Stunde vor unserer Yogastunde nichts\, zumindest nichts „Schweres“. Ich möchte Dich bitten\, im Studio und insbesondere während der Yogastunde nicht zu essen. \nRücksicht nehmen\nBitte schalte Dein Handy aus oder nehme es am Besten nicht mit ins Studio. Nutze die bewusste Auszeit! \nEinschränkungen\nSolltest Du körperliche Einschränkungen haben\, gib mir vor der Stunde eine kurze Info. Ich werde die einzelnen Übungen gerne für Dich entsprechend anpassen und Alternativen anbieten.
URL:https://lovely-yoga.de/events/lovely-yoga-studio-62/
LOCATION:LOVELY YOGA STUDIO\, Parkstraße 1\, Kaiserslautern\, 67655\, Germany
CATEGORIES:Hatha Yoga,Montags,Präsenz
END:VEVENT
END:VCALENDAR